BEGIN:VCALENDAR
VERSION:2.0
PRODID:-//Tommy Corral Memorial Foundation - ECPv6.15.20//NONSGML v1.0//EN
CALSCALE:GREGORIAN
METHOD:PUBLISH
X-ORIGINAL-URL:https://tommycorralmemorialfoundation.com
X-WR-CALDESC:Events for Tommy Corral Memorial Foundation
REFRESH-INTERVAL;VALUE=DURATION:PT1H
X-Robots-Tag:noindex
X-PUBLISHED-TTL:PT1H
BEGIN:VTIMEZONE
TZID:America/Chicago
BEGIN:DAYLIGHT
TZOFFSETFROM:-0600
TZOFFSETTO:-0500
TZNAME:CDT
DTSTART:20250309T080000
END:DAYLIGHT
BEGIN:STANDARD
TZOFFSETFROM:-0500
TZOFFSETTO:-0600
TZNAME:CST
DTSTART:20251102T070000
END:STANDARD
BEGIN:DAYLIGHT
TZOFFSETFROM:-0600
TZOFFSETTO:-0500
TZNAME:CDT
DTSTART:20260308T080000
END:DAYLIGHT
BEGIN:STANDARD
TZOFFSETFROM:-0500
TZOFFSETTO:-0600
TZNAME:CST
DTSTART:20261101T070000
END:STANDARD
BEGIN:DAYLIGHT
TZOFFSETFROM:-0600
TZOFFSETTO:-0500
TZNAME:CDT
DTSTART:20270314T080000
END:DAYLIGHT
BEGIN:STANDARD
TZOFFSETFROM:-0500
TZOFFSETTO:-0600
TZNAME:CST
DTSTART:20271107T070000
END:STANDARD
END:VTIMEZONE
BEGIN:VEVENT
DTSTART;TZID=America/Chicago:20260627T160000
DTEND;TZID=America/Chicago:20260627T183000
DTSTAMP:20260423T085053
CREATED:20260305T163937Z
LAST-MODIFIED:20260305T163937Z
UID:1293-1782576000-1782585000@tommycorralmemorialfoundation.com
SUMMARY:Kids Mental Health Support Workshop
DESCRIPTION:
URL:https://tommycorralmemorialfoundation.com/event/kids-mental-health-support-workshop-2/
LOCATION:Bethany Church\, 5403 North Second Street\, Loves Park\, IL\, 61111\, United States
CATEGORIES:Events
ATTACH;FMTTYPE=image/png:https://tommycorralmemorialfoundation.com/wp-content/uploads/2026/03/kidsmentalhealth.png
END:VEVENT
BEGIN:VEVENT
DTSTART;VALUE=DATE:20260829
DTEND;VALUE=DATE:20260830
DTSTAMP:20260423T085053
CREATED:20250718T151305Z
LAST-MODIFIED:20260318T145541Z
UID:1214-1787961600-1788047999@tommycorralmemorialfoundation.com
SUMMARY:Fight Fore Life: Golf
DESCRIPTION:
URL:https://tommycorralmemorialfoundation.com/event/fight-fore-life-golf/
LOCATION:Swan Hills Golf Course\, 2600 Gustafson Rd\, Belvidere\, IL\, 61008\, United States
CATEGORIES:Events
ATTACH;FMTTYPE=image/png:https://tommycorralmemorialfoundation.com/wp-content/uploads/2025/07/golf.png
END:VEVENT
BEGIN:VEVENT
DTSTART;TZID=America/Chicago:20260926T160000
DTEND;TZID=America/Chicago:20260926T183000
DTSTAMP:20260423T085053
CREATED:20260305T164003Z
LAST-MODIFIED:20260305T164003Z
UID:1294-1790438400-1790447400@tommycorralmemorialfoundation.com
SUMMARY:Kids Mental Health Support Workshop
DESCRIPTION:
URL:https://tommycorralmemorialfoundation.com/event/kids-mental-health-support-workshop-3/
LOCATION:Bethany Church\, 5403 North Second Street\, Loves Park\, IL\, 61111\, United States
CATEGORIES:Events
ATTACH;FMTTYPE=image/png:https://tommycorralmemorialfoundation.com/wp-content/uploads/2026/03/kidsmentalhealth.png
END:VEVENT
BEGIN:VEVENT
DTSTART;TZID=America/Chicago:20261219T160000
DTEND;TZID=America/Chicago:20261219T183000
DTSTAMP:20260423T085053
CREATED:20260305T164035Z
LAST-MODIFIED:20260305T164035Z
UID:1295-1797696000-1797705000@tommycorralmemorialfoundation.com
SUMMARY:Kids Mental Health Support Workshop
DESCRIPTION:
URL:https://tommycorralmemorialfoundation.com/event/kids-mental-health-support-workshop-4/
LOCATION:Bethany Church\, 5403 North Second Street\, Loves Park\, IL\, 61111\, United States
CATEGORIES:Events
ATTACH;FMTTYPE=image/png:https://tommycorralmemorialfoundation.com/wp-content/uploads/2026/03/kidsmentalhealth.png
END:VEVENT
END:VCALENDAR